BEGIN:VCALENDAR
VERSION:2.0
PRODID:-//hacksw/handcal//NONSGML v1.0//EN
BEGIN:VEVENT
SUMMARY:3 DIV SENIOR occitanie
UID:5665ede1-2dda-45c6-afe3-0b5b02b47475
DTSTART:20260418T220000Z
DTEND:20260419T220000Z
LOCATION:Localisation   
CATEGORIES:Sportif
STATUS:
URL;VALUE=URI:https://dojomende.sportsregions.fr/evenements/2026/04/19/3-div-senior-occitanie-2443288
END:VEVENT
END:VCALENDAR
